BEGIN:VCALENDAR
VERSION:2.0
PRODID:-//Nachbar- und Traditionsverein Hohburger Berge e.V. - ECPv6.15.20//NONSGML v1.0//EN
CALSCALE:GREGORIAN
METHOD:PUBLISH
X-ORIGINAL-URL:https://hohburger-berge-ev.de
X-WR-CALDESC:Veranstaltungen für Nachbar- und Traditionsverein Hohburger Berge e.V.
REFRESH-INTERVAL;VALUE=DURATION:PT1H
X-Robots-Tag:noindex
X-PUBLISHED-TTL:PT1H
BEGIN:VTIMEZONE
TZID:Europe/Berlin
BEGIN:DAYLIGHT
TZOFFSETFROM:+0100
TZOFFSETTO:+0200
TZNAME:CEST
DTSTART:20240331T010000
END:DAYLIGHT
BEGIN:STANDARD
TZOFFSETFROM:+0200
TZOFFSETTO:+0100
TZNAME:CET
DTSTART:20241027T010000
END:STANDARD
BEGIN:DAYLIGHT
TZOFFSETFROM:+0100
TZOFFSETTO:+0200
TZNAME:CEST
DTSTART:20250330T010000
END:DAYLIGHT
BEGIN:STANDARD
TZOFFSETFROM:+0200
TZOFFSETTO:+0100
TZNAME:CET
DTSTART:20251026T010000
END:STANDARD
BEGIN:DAYLIGHT
TZOFFSETFROM:+0100
TZOFFSETTO:+0200
TZNAME:CEST
DTSTART:20260329T010000
END:DAYLIGHT
BEGIN:STANDARD
TZOFFSETFROM:+0200
TZOFFSETTO:+0100
TZNAME:CET
DTSTART:20261025T010000
END:STANDARD
END:VTIMEZONE
BEGIN:VEVENT
DTSTART;TZID=Europe/Berlin:20250921T100000
DTEND;TZID=Europe/Berlin:20250921T170000
DTSTAMP:20260421T142634
CREATED:20250730T210618Z
LAST-MODIFIED:20250811T134631Z
UID:712-1758448800-1758474000@hohburger-berge-ev.de
SUMMARY:So. 21.09.2025 - Wanderung zum Tag des Geotops
DESCRIPTION:Wanderung zum Tag des Geotops  \n\n\n\nStart der Wanderung 10 Uhr am Steinarbeiterhaus in Hohburg  \n\n\n\nweitere Details folgen
URL:https://hohburger-berge-ev.de/event/sa-21-09-2025-wanderung-zum-tag-des-geotops/
CATEGORIES:Kultur
END:VEVENT
END:VCALENDAR