BEGIN:VCALENDAR
VERSION:2.0
PRODID:-//Nachbar- und Traditionsverein Hohburger Berge e.V. - ECPv6.15.20//NONSGML v1.0//EN
CALSCALE:GREGORIAN
METHOD:PUBLISH
X-WR-CALNAME:Nachbar- und Traditionsverein Hohburger Berge e.V.
X-ORIGINAL-URL:https://hohburger-berge-ev.de
X-WR-CALDESC:Veranstaltungen für Nachbar- und Traditionsverein Hohburger Berge e.V.
REFRESH-INTERVAL;VALUE=DURATION:PT1H
X-Robots-Tag:noindex
X-PUBLISHED-TTL:PT1H
BEGIN:VTIMEZONE
TZID:Europe/Berlin
BEGIN:DAYLIGHT
TZOFFSETFROM:+0100
TZOFFSETTO:+0200
TZNAME:CEST
DTSTART:20240331T010000
END:DAYLIGHT
BEGIN:STANDARD
TZOFFSETFROM:+0200
TZOFFSETTO:+0100
TZNAME:CET
DTSTART:20241027T010000
END:STANDARD
BEGIN:DAYLIGHT
TZOFFSETFROM:+0100
TZOFFSETTO:+0200
TZNAME:CEST
DTSTART:20250330T010000
END:DAYLIGHT
BEGIN:STANDARD
TZOFFSETFROM:+0200
TZOFFSETTO:+0100
TZNAME:CET
DTSTART:20251026T010000
END:STANDARD
BEGIN:DAYLIGHT
TZOFFSETFROM:+0100
TZOFFSETTO:+0200
TZNAME:CEST
DTSTART:20260329T010000
END:DAYLIGHT
BEGIN:STANDARD
TZOFFSETFROM:+0200
TZOFFSETTO:+0100
TZNAME:CET
DTSTART:20261025T010000
END:STANDARD
END:VTIMEZONE
BEGIN:VEVENT
DTSTART;TZID=Europe/Berlin:20250420T130000
DTEND;TZID=Europe/Berlin:20250420T170000
DTSTAMP:20260421T233809
CREATED:20250407T135332Z
LAST-MODIFIED:20250407T135334Z
UID:684-1745154000-1745168400@hohburger-berge-ev.de
SUMMARY:So. 20.04.25 - Osterwandung
DESCRIPTION:Am Ostersonntag geht es wieder los. \n\n\n\nab 13.00 Uhr Osterwanderung durch Hohburg über den “kleinen Berg” und zurück zum Steinarbeiterhaus. \n\n\n\nDort warten dann frisch gebackene Osterfladen und Getränke.
URL:https://hohburger-berge-ev.de/event/so-20-04-25-osterwandung/
LOCATION:Steinarbeiterhaus Hohburg\, Kirchgasse 5\, Lossatal\, 04808\, Deutschland
CATEGORIES:Kultur,Verein
ATTACH;FMTTYPE=image/jpeg:https://hohburger-berge-ev.de/wp-content/uploads/2025/04/OSTERN25-scaled.jpg
END:VEVENT
END:VCALENDAR