BEGIN:VCALENDAR
VERSION:2.0
PRODID:-//Nachbar- und Traditionsverein Hohburger Berge e.V. - ECPv6.15.20//NONSGML v1.0//EN
CALSCALE:GREGORIAN
METHOD:PUBLISH
X-WR-CALNAME:Nachbar- und Traditionsverein Hohburger Berge e.V.
X-ORIGINAL-URL:https://hohburger-berge-ev.de
X-WR-CALDESC:Veranstaltungen für Nachbar- und Traditionsverein Hohburger Berge e.V.
REFRESH-INTERVAL;VALUE=DURATION:PT1H
X-Robots-Tag:noindex
X-PUBLISHED-TTL:PT1H
BEGIN:VTIMEZONE
TZID:Europe/Berlin
BEGIN:DAYLIGHT
TZOFFSETFROM:+0100
TZOFFSETTO:+0200
TZNAME:CEST
DTSTART:20230326T010000
END:DAYLIGHT
BEGIN:STANDARD
TZOFFSETFROM:+0200
TZOFFSETTO:+0100
TZNAME:CET
DTSTART:20231029T010000
END:STANDARD
BEGIN:DAYLIGHT
TZOFFSETFROM:+0100
TZOFFSETTO:+0200
TZNAME:CEST
DTSTART:20240331T010000
END:DAYLIGHT
BEGIN:STANDARD
TZOFFSETFROM:+0200
TZOFFSETTO:+0100
TZNAME:CET
DTSTART:20241027T010000
END:STANDARD
BEGIN:DAYLIGHT
TZOFFSETFROM:+0100
TZOFFSETTO:+0200
TZNAME:CEST
DTSTART:20250330T010000
END:DAYLIGHT
BEGIN:STANDARD
TZOFFSETFROM:+0200
TZOFFSETTO:+0100
TZNAME:CET
DTSTART:20251026T010000
END:STANDARD
END:VTIMEZONE
BEGIN:VEVENT
DTSTART;TZID=Europe/Berlin:20240303T140000
DTEND;TZID=Europe/Berlin:20240303T160000
DTSTAMP:20260422T223505
CREATED:20240228T194334Z
LAST-MODIFIED:20240229T191310Z
UID:505-1709474400-1709481600@hohburger-berge-ev.de
SUMMARY:3. März 2024 14 Uhr - Vortrag zur „Nagelsche Säulen“ im Steinarbeiterhaus
DESCRIPTION:Eine Spurensuche zu den historischen Vermessungssäulen in Sachsen.Treffpunkt: 14 Uhr SteinarbeiterhausAnmeldung per Telefon 034263-41344 oder per E-Mail: info@steinarbeiterhaus.de
URL:https://hohburger-berge-ev.de/event/vortrag-steinarbeiterhaus-nagelsche-saeulen-voranmeldung-notwendig/
LOCATION:Steinarbeiterhaus Hohburg\, Kirchgasse 5\, Lossatal\, 04808\, Deutschland
CATEGORIES:Kultur
END:VEVENT
END:VCALENDAR